BEGIN:VCALENDAR
VERSION:2.0
PRODID:DPCALENDAR
CALSCALE:GREGORIAN
BEGIN:VTIMEZONE
TZID:America/New_York
X-MICROSOFT-CDO-TZID:10
BEGIN:STANDARD
DTSTART:20251102T060000
TZOFFSETFROM:-400
TZOFFSETTO:-500
TZNAME:EST
END:STANDARD
BEGIN:DAYLIGHT
DTSTART:20260308T070000
TZOFFSETFROM:-500
TZOFFSETTO:-400
TZNAME:EDT
END:DAYLIGHT
BEGIN:STANDARD
DTSTART:20261101T060000
TZOFFSETFROM:-400
TZOFFSETTO:-500
TZNAME:EST
END:STANDARD
END:VTIMEZONE
X-WR-TIMEZONE:America/New_York
BEGIN:VEVENT
DTSTART;TZID=America/New_York:20160320T120000
DTEND;TZID=America/New_York:20160320T170000
UID:76970C4D-4965-41DB-B046-4BB2529C50C2
SUMMARY:Professional Acting Workshop
DTSTAMP:20160223T041359Z
DESCRIPTION:{article Professional Acting Workshop conducted by Hollywood actor Michael Haney}{text}{/article}
X-ALT-DESC;FMTTYPE=text/html:<p>{article Professional Acting Workshop conducted by Hollywood actor Michael Haney}{text}{/article}</p>
LAST-MODIFIED:20160303T213114Z
X-ACCESS:1
X-HITS:8058
X-URL:
X-COLOR:27326C
END:VEVENT
END:VCALENDAR