BEGIN:VCALENDAR
VERSION:2.0
PRODID:DPCALENDAR
CALSCALE:GREGORIAN
BEGIN:VTIMEZONE
TZID:America/New_York
X-MICROSOFT-CDO-TZID:10
BEGIN:STANDARD
DTSTART:20251102T060000
TZOFFSETFROM:-400
TZOFFSETTO:-500
TZNAME:EST
END:STANDARD
BEGIN:DAYLIGHT
DTSTART:20260308T070000
TZOFFSETFROM:-500
TZOFFSETTO:-400
TZNAME:EDT
END:DAYLIGHT
BEGIN:STANDARD
DTSTART:20261101T060000
TZOFFSETFROM:-400
TZOFFSETTO:-500
TZNAME:EST
END:STANDARD
END:VTIMEZONE
X-WR-TIMEZONE:America/New_York
BEGIN:VEVENT
DTSTART;TZID=America/New_York:20160220T190000
DTEND;TZID=America/New_York:20160220T210000
UID:61976DB3-723B-4B25-9A96-E5315694E25C
SUMMARY:The Miss Homestead Scholarship Foundation
DTSTAMP:20160203T173232Z
DESCRIPTION:Come cheer on a young lady as she competes for Miss Homestead 2016! Tickets are $10 at the door and tickets for children under 12 are $5. We will have a 50/50 raffle and a few other raffle prizes to go with the show. There will be dancing, singing, 20 second answers, local dance studio dancers (future Miss Homesteads??) and brave young women, showing themselves what great representatives of our wonderful city they can be! Come out, catch a show, support a local scholarship organization and celebrate these young women!\N
X-ALT-DESC;FMTTYPE=text/html:<p>Come cheer on a young lady as she competes for Miss Homestead 2016! Tickets are $10 at the door and tickets for children under 12 are $5. We will have a 50/50 raffle and a few other raffle prizes to go with the show. There will be dancing, singing, 20 second answers, local dance studio dancers (future Miss Homesteads??) and brave young women, showing themselves what great representatives of our wonderful city they can be! Come out, catch a show, support a local scholarship organization and celebrate these young women!</p><p></p>
LAST-MODIFIED:20160209T161752Z
X-ACCESS:1
X-HITS:4465
X-URL:http://www.misshomestead.com/
X-COLOR:27326C
END:VEVENT
END:VCALENDAR